BEGIN:VCALENDAR
VERSION:2.0
PRODID:-//Squarespace Inc/Squarespace 6//v6//EN
BEGIN:VEVENT
UID:5551d58fe4b03baa3e6becd1@squarespace.com
DTSTAMP:20190425T104009Z
DTSTART:20190309T013000Z
DTEND:20190809T013000Z
SUMMARY:FRIDAY &amp\; SATURDAY NIGHT LIVE 
END:VEVENT
END:VCALENDAR
