BEGIN:VCALENDAR
VERSION:2.0
PRODID:-//Squarespace Inc/Squarespace 6//v6//EN
BEGIN:VEVENT
UID:5de4818f8ca23e2f1dc2867f@squarespace.com
DTSTAMP:20191202T031712Z
DTSTART:20191202T033000Z
DTEND:20200301T043000Z
SUMMARY:FREE Zooper Doopers 
END:VEVENT
END:VCALENDAR
