BEGIN:VCALENDAR
VERSION:2.0
PRODID:-//Squarespace Inc/Squarespace 6//v6//EN
BEGIN:VEVENT
UID:5d6ed810f2563f000110d759@squarespace.com
DTSTAMP:20190903T211838Z
DTSTART:20190908T213000Z
DTEND:20200126T213000Z
SUMMARY:Family Sunday Funday 
END:VEVENT
END:VCALENDAR
