BEGIN:VCALENDAR
VERSION:2.0
PRODID:-//Squarespace Inc/Squarespace 6//v6//EN
BEGIN:VEVENT
UID:5e462d12282c5b032ad4b32e@squarespace.com
DTSTAMP:20200214T052740Z
DTSTART:20200312T053000Z
DTEND:20200930T073000Z
SUMMARY:Footy Tipping Comp
END:VEVENT
END:VCALENDAR
